BEGIN:VCALENDAR
VERSION:2.0
PRODID:-//Heidi Herman Author - ECPv6.3.2//NONSGML v1.0//EN
CALSCALE:GREGORIAN
METHOD:PUBLISH
X-ORIGINAL-URL:https://heidihermanauthor.com
X-WR-CALDESC:Events for Heidi Herman Author
REFRESH-INTERVAL;VALUE=DURATION:PT1H
X-Robots-Tag:noindex
X-PUBLISHED-TTL:PT1H
BEGIN:VTIMEZONE
TZID:UTC
BEGIN:STANDARD
TZOFFSETFROM:+0000
TZOFFSETTO:+0000
TZNAME:UTC
DTSTART:20240101T000000
END:STANDARD
END:VTIMEZONE
BEGIN:VEVENT
DTSTART;VALUE=DATE:20241025
DTEND;VALUE=DATE:20241027
DTSTAMP:20260421T191157
CREATED:20241015T182334Z
LAST-MODIFIED:20241015T182334Z
UID:20254-1729814400-1729987199@heidihermanauthor.com
SUMMARY:Literature & Lattes
DESCRIPTION:Literature & Lattes\, a South Dakota Book Event. I’m so excited for this event next week! (I’ve honestly been looking forward to it for a couple of months now) \nJoin me at @SD_Literatureandlattes for two days of book-lover events great for readers and authors alike. I’ll be on the Friday Author Panel and at the Friday night Meet & Greet so stop by and say hi. Saturday I’ll have a table at the Book Fair to answer questions\, sign books\, and connect with you. You can bid on my awesome book-lover gift basket at the silent auction to benefit Bread Break ministry in Sioux Falls. \nWorkshops are free\, but Literature & Lattes requests registration to ensure they have enough materials. \nFriday October 25th\n10:00-10:45 Writer Workshop\n11:00-11:45 Writer Workshop\n1:00- 1:45 Writer Workshop\n2:00- 2:45 Writer Workshop\n3:00- 4:00 Author Panel on Publishing: Traditional\, Indie\, & More; I’ll be joining Laurie Lucking and Millie Copper on this panel for discussion\n6:00pm – 8:30pm Author Meet & Greet ($5 tickets business casual/formal event) \nSaturday October 26th\n9:00am – 3:00pm – Literature & Lattes Book Fair. Stop by my table for special give-aways!\n9:00am – 2:00pm – Silent Auction (you’re gonna LOVE the basket I’m donating!)
URL:https://heidihermanauthor.com/events/literature-lattes/
LOCATION:Brandon Golf Course\, 2100 E Aspen Blvd\, Brandon\, SD\, 57005\, United States
CATEGORIES:Craft Fair,Readings,Signing,Writing
ATTACH;FMTTYPE=image/png:https://heidihermanauthor.com/wp-content/uploads/2024/10/LiteratureandLattesSD.png
END:VEVENT
END:VCALENDAR