BEGIN:VCALENDAR
VERSION:2.0
PRODID:-//Heidi Herman Author - ECPv6.3.2//NONSGML v1.0//EN
CALSCALE:GREGORIAN
METHOD:PUBLISH
X-WR-CALNAME:Heidi Herman Author
X-ORIGINAL-URL:https://heidihermanauthor.com
X-WR-CALDESC:Events for Heidi Herman Author
REFRESH-INTERVAL;VALUE=DURATION:PT1H
X-Robots-Tag:noindex
X-PUBLISHED-TTL:PT1H
BEGIN:VTIMEZONE
TZID:UTC
BEGIN:STANDARD
TZOFFSETFROM:+0000
TZOFFSETTO:+0000
TZNAME:UTC
DTSTART:20210101T000000
END:STANDARD
END:VTIMEZONE
BEGIN:VEVENT
DTSTART;VALUE=DATE:20250924
DTEND;VALUE=DATE:20250928
DTSTAMP:20260421T221558
CREATED:20250415T221308Z
LAST-MODIFIED:20250415T221308Z
UID:20285-1758672000-1759017599@heidihermanauthor.com
SUMMARY:Norse Hostfest
DESCRIPTION:I’ll be at the Author’s Pavilion at Norsk Høstfest\, North America’s largest Scandinavian festival. I’ll be attending with all of Hekla Publishing’s books\, including an exciting new cookbook being released September 1st! \nThis annual event is a celebration of the rich cultural heritage of the Nordic countries\, including Denmark\, Finland\, Iceland\, Norway\, and Sweden. The festival features a variety of traditional activities\, including authentic Nordic food\, music and dance performances\, artisan crafts\, and cultural exhibits. Held at the North Dakota State Fair Grounds in Minot\, North Dakota\, the festival will take place from September 24th to 27th\, 2025
URL:https://heidihermanauthor.com/events/norse-hostfest/
LOCATION:North Dakota State Fiar\, Minot\, United States
CATEGORIES:Craft Fair,Festival,Signing
ATTACH;FMTTYPE=image/png:https://heidihermanauthor.com/wp-content/uploads/2025/04/NorseHostfest.png
END:VEVENT
BEGIN:VEVENT
DTSTART;TZID=UTC:20250905T080000
DTEND;TZID=UTC:20250906T160000
DTSTAMP:20260421T221558
CREATED:20250415T220545Z
LAST-MODIFIED:20250415T222803Z
UID:20281-1757059200-1757174400@heidihermanauthor.com
SUMMARY:Literature & Lattes
DESCRIPTION:A South Dakota Book Event September 5th & 6th \nI’ll be attending the event for the Author Meet & Greet on Friday and an author table on Saturday\, with all my books on hand for purchase\, including my new release cookbook going on sale September 1st! \nLiterature and Lattes is a free\, clean-fiction\, multi-genre book event featuring writing workshops and book signings by authors from South Dakota and around the country. Weekend events include writing workshops\, author panel\, meet & greet\, book signings\, food truck\, vendors\, silent auction and more \nFriday\, Sept. 5th\nSheraton Hotel Fontenelle Room \n9:00am – 4:00pm\nWriting Workshops & Author Panel \n6:30pm – 8:00pm\nAuthor Meet & Greet \nSaturday\, Sept. 6th\nConvention Center Grand Ballroom \n9:00am – 3:00pm\nBook Fair \n9:00am – 2:00pm\nSilent Auction
URL:https://heidihermanauthor.com/events/literature-lattes-2/
LOCATION:Denny Sanford Convention Center\, 1211 N. West Ave.\, Sioux Falls\, SD\, United States
CATEGORIES:Seminars,Signing
ATTACH;FMTTYPE=image/png:https://heidihermanauthor.com/wp-content/uploads/2025/04/LitAndLat.png
END:VEVENT
BEGIN:VEVENT
DTSTART;VALUE=DATE:20241025
DTEND;VALUE=DATE:20241027
DTSTAMP:20260421T221558
CREATED:20241015T182334Z
LAST-MODIFIED:20241015T182334Z
UID:20254-1729814400-1729987199@heidihermanauthor.com
SUMMARY:Literature & Lattes
DESCRIPTION:Literature & Lattes\, a South Dakota Book Event. I’m so excited for this event next week! (I’ve honestly been looking forward to it for a couple of months now) \nJoin me at @SD_Literatureandlattes for two days of book-lover events great for readers and authors alike. I’ll be on the Friday Author Panel and at the Friday night Meet & Greet so stop by and say hi. Saturday I’ll have a table at the Book Fair to answer questions\, sign books\, and connect with you. You can bid on my awesome book-lover gift basket at the silent auction to benefit Bread Break ministry in Sioux Falls. \nWorkshops are free\, but Literature & Lattes requests registration to ensure they have enough materials. \nFriday October 25th\n10:00-10:45 Writer Workshop\n11:00-11:45 Writer Workshop\n1:00- 1:45 Writer Workshop\n2:00- 2:45 Writer Workshop\n3:00- 4:00 Author Panel on Publishing: Traditional\, Indie\, & More; I’ll be joining Laurie Lucking and Millie Copper on this panel for discussion\n6:00pm – 8:30pm Author Meet & Greet ($5 tickets business casual/formal event) \nSaturday October 26th\n9:00am – 3:00pm – Literature & Lattes Book Fair. Stop by my table for special give-aways!\n9:00am – 2:00pm – Silent Auction (you’re gonna LOVE the basket I’m donating!)
URL:https://heidihermanauthor.com/events/literature-lattes/
LOCATION:Brandon Golf Course\, 2100 E Aspen Blvd\, Brandon\, SD\, 57005\, United States
CATEGORIES:Craft Fair,Readings,Signing,Writing
ATTACH;FMTTYPE=image/png:https://heidihermanauthor.com/wp-content/uploads/2024/10/LiteratureandLattesSD.png
END:VEVENT
BEGIN:VEVENT
DTSTART;VALUE=DATE:20230623
DTEND;VALUE=DATE:20230625
DTSTAMP:20260421T221558
CREATED:20230207T225328Z
LAST-MODIFIED:20230213T185723Z
UID:20080-1687478400-1687651199@heidihermanauthor.com
SUMMARY:Scandinavian Hjemkomst & Midwest Viking Festival
DESCRIPTION:Family-friendly! An authentic Scandinavian event featuring dancing\, entertainment\, food\, Viking-Age crafts\, demonstrations\, seminars\, and other activities. \nHeidi will be presenting several programs including a virtual vacation of Iceland\, folklore for children\, and an Icelandic cooking demonstration. Times for each program will be posted soon! Presentations subject to change \nLegendary Iceland – Land of Fire & Ice\, Legacy of Legend\nA journey through Iceland\, a land where legends come alive\, led by an Icelandic-American author. This presentation is a virtual vacation of Iceland\, blending the breathtaking landscapes and fascinating history with the unique mythology of this Nordic culture. Using my own photography and video\, this tour takes attendees along the famous ring road through the entire country\, where they learn about the landscape\, the country’s history and folklore and the culture of today. A fascinating and entertaining presentation on one of the world’s most popular tourist destinations. \nIceland Folk Tales – Trolls & Legends of Iceland \nThe Hidden Folk\, Monster Worm\, Yule Lads\, Gryla\, and more! This story-based presentation provides an entertaining look at Icelandic folklore from trolls to wiggle-waggle monsters and everything in between.  The mythology is a blend of Viking legends\, stories from the Sagas\, and folklore brought from other countries.  How the Icelandic people have incorporated it into daily life is both fascinating and refreshing.  The warnings\, lessons\, and instruction presented in the stories reflect wisdom\, tolerance\, and common-sense approach to life. Children will hear 3-5 stories from my folklore book\, The Guardians of Iceland and Other Icelandic Folk Tales\, and learn the lessons from each. \nIcelandic Cooking Demonstration\nThe food and cultural history of Iceland is unique to Scandinavia and dates back to the time of the Vikings. Presentation\, including taste-testing\, developed from the award-winning cookbook\, Homestyle Icelandic Cooking for American Kitchens. \nJólasveinar Poem Reading & Crafts\nEnglish Recitation of Jóhannes úr Kötlum’s 1932 poem “Jólasveinarnir\,” introducing the Icelandic Yule Lads with local costumed volunteers\, approximately 15-20 minutes. An interactive craft activity will follow where children will receive a take-home item.
URL:https://heidihermanauthor.com/events/scandinavian-hjemkomst-midwest-viking-festival/
LOCATION:Hjemkomst Center\, 202 1st Ave N\, Moorhead\, MN\, 56560\, United States
CATEGORIES:Craft Fair,Readings,Signing,Speaking
ATTACH;FMTTYPE=image/jpeg:https://heidihermanauthor.com/wp-content/uploads/2023/02/VikingShip.jpg
END:VEVENT
BEGIN:VEVENT
DTSTART;TZID=UTC:20230306T100000
DTEND;TZID=UTC:20230306T113000
DTSTAMP:20260421T221558
CREATED:20230207T221953Z
LAST-MODIFIED:20230207T222849Z
UID:20069-1678096800-1678102200@heidihermanauthor.com
SUMMARY:Living Well at Every Age
DESCRIPTION:Íeda Jónasdóttir Herman lived a full and active life into her nineties\, fueled by a philosophy that it’s never too late to try new things. In this live virtual program\, Íeda’s daughter\, author Heidi Herman\, will talk about her mom’s year of 93 new things and Ieda’s photo journal book\, “Never Too Late\,” which chronicles of those experiences.\nHeidi will also discuss her own book\, “On With the Butter!\,” a motivational book inspired by her mother’s example. It’s a book about active aging that’s been hailed by US Review of Books as a ‘fresh perspective on living well at any age’ and called ‘an upbeat and sincere primer on living one’s best life’ by Kirkus Review. Both books are available to patrons in the library’s collection.
URL:https://heidihermanauthor.com/events/living-well-at-every-age-2/
LOCATION:Broadway Mesa Village\, Mesa\, AZ
CATEGORIES:Readings,Signing,Speaking
ATTACH;FMTTYPE=image/jpeg:https://heidihermanauthor.com/wp-content/uploads/2023/02/2in13D-6-scaled.jpg
END:VEVENT
BEGIN:VEVENT
DTSTART;TZID=UTC:20230128T100000
DTEND;TZID=UTC:20230128T140000
DTSTAMP:20260421T221558
CREATED:20230120T195123Z
LAST-MODIFIED:20230120T201059Z
UID:19504-1674900000-1674914400@heidihermanauthor.com
SUMMARY:7th Annual WinterFest/BookFest
DESCRIPTION:FREE event.  Fun and family friendly. Click HERE for current list of exhibitors. \nWinterFest offers our curious participants of all ages and physical abilities a variety of discovery experiences to instill respect\, responsibility\, and stewardship for the surrounding area’s outstanding cultural\, historical\, recreational\, and environmental offerings. \nBookFest offers history buffs\, authors\, potential authors\, and supporting experts a chance to meet authors selling and signing their books as well as interact with authors\, booksellers\, illustrators\, and other supporting experts of Arizona History. \nThe Old Cañon School Museum will be open for tours.  There will also be some local crafts and refreshments for sale.
URL:https://heidihermanauthor.com/events/7th-annual-winterfest-bookfest/
LOCATION:Black Canyon Heritage Park\, 33955 Old Black Canyon Hwy\, Black Canyon City\, AZ\, 85324\, United States
CATEGORIES:Signing,Speaking,Writing
ATTACH;FMTTYPE=image/jpeg:https://heidihermanauthor.com/wp-content/uploads/2023/01/7th-Annual-WinterFest-BookFest-copy.jpg
END:VEVENT
BEGIN:VEVENT
DTSTART;TZID=UTC:20220129T100000
DTEND;TZID=UTC:20220129T150000
DTSTAMP:20260421T221558
CREATED:20220102T175524Z
LAST-MODIFIED:20230130T234915Z
UID:19453-1643450400-1643468400@heidihermanauthor.com
SUMMARY:Barnes & Noble Booksigning
DESCRIPTION:Come and meet Heidi Herman Author & Speaker will be signing her latest book ‘On with the Butter’.
URL:https://heidihermanauthor.com/events/barnes-noble-booksigning/
LOCATION:Arrowhead Palms\, W Bell Rd\, Peoria\, AZ\, 85382\, United States
CATEGORIES:Readings,Signing,Writing
ATTACH;FMTTYPE=image/jpeg:https://heidihermanauthor.com/wp-content/uploads/2023/01/BarnsandNoble_HeidiHermanAuthor.jpg
END:VEVENT
BEGIN:VEVENT
DTSTART;TZID=UTC:20220109T100000
DTEND;TZID=UTC:20220109T180000
DTSTAMP:20260421T221558
CREATED:20221220T181741Z
LAST-MODIFIED:20230130T234922Z
UID:19457-1641722400-1641751200@heidihermanauthor.com
SUMMARY:New Year New You Market
DESCRIPTION:I’ll have all our books available and I’m happy to sign any of my titles. Icelandic-inspired titles by Hekla Publishing: Folklore\, cookbook\, women’s fiction\, and children’s holiday books. Stop by to buy a book or just say hi as you shop the other great vendors.
URL:https://heidihermanauthor.com/events/new-year-new-you-market/
LOCATION:Valley Vista High School\, 15550 N Parkview Pl\, Surprise\, AZ\, 85374\, United States
CATEGORIES:Craft Fair,Signing,Writing
ATTACH;FMTTYPE=image/jpeg:https://heidihermanauthor.com/wp-content/uploads/2023/01/VVHSBookSigning_HeidiHerman.jpg
END:VEVENT
BEGIN:VEVENT
DTSTART;TZID=UTC:20211201T100000
DTEND;TZID=UTC:20211201T160000
DTSTAMP:20260421T221558
CREATED:20211120T184138Z
LAST-MODIFIED:20230130T234842Z
UID:19478-1638352800-1638374400@heidihermanauthor.com
SUMMARY:Arizona Author's Association
DESCRIPTION:Book Sale & Signing
URL:https://heidihermanauthor.com/events/arizona-authors-association/
LOCATION:Arizona Authors Association\, 7700 W Arrowhead Towne Center\, Glendale\, 85308\, United States
CATEGORIES:Readings,Signing,Writing
ATTACH;FMTTYPE=image/webp:https://heidihermanauthor.com/wp-content/uploads/2023/01/AZAuthors_HeidiHerman.webp
END:VEVENT
BEGIN:VEVENT
DTSTART;TZID=UTC:20210923T100000
DTEND;TZID=UTC:20210923T140000
DTSTAMP:20260421T221559
CREATED:20210820T185208Z
LAST-MODIFIED:20230130T234848Z
UID:19483-1632391200-1632405600@heidihermanauthor.com
SUMMARY:Local Author Day
DESCRIPTION:Session Talk by Heidi Herman Author & Speaker on How my Culture and Heritage Inspires my Writing.
URL:https://heidihermanauthor.com/events/local-author-day/
LOCATION:Huron Public Library\, 521 Dakota Ave S\, South Dakota\, 57350\, United States
CATEGORIES:Signing,Speaking,Writing
ATTACH;FMTTYPE=image/jpeg:https://heidihermanauthor.com/wp-content/uploads/2023/01/VVHSBookSigning_HeidiHerman.jpg
END:VEVENT
BEGIN:VEVENT
DTSTART;TZID=UTC:20210904T103000
DTEND;TZID=UTC:20210904T143000
DTSTAMP:20260421T221559
CREATED:20210820T190042Z
LAST-MODIFIED:20230130T234854Z
UID:19486-1630751400-1630765800@heidihermanauthor.com
SUMMARY:Living your Best Life at any Age
DESCRIPTION:Vitality of a Heartland Viking: Scandinavian Philosophy for Living Your Best Life at any Age. We’ll be talking about Scandinavian philosophy and how to use the Viking mindset to live your best life here in the Heartland of America. Live fully\, gain vitality\, and have fun in all you do at any age! On With the Butter! 2 Sessions at the Arts building. 10:30am and 2:30pm.\n\nHeidi Herman was born and raised in Central Illinois\, but her passion and a common theme in her writing is her Icelandic heritage. After a 30-year career in business\, Heidi began writing fiction. She was inspired by her mother\, Íeda Jónasdóttir Herman\, after she published a childhood memoir about growing up in Iceland. Heidi wrote several children’s books based on Icelandic folklore\, an Icelandic-American cookbook\, and a novel with Icelandic themes. Her newest work\, “On With The Butter: Spread More Living Onto Everyday Life” was inspired while Heidi completed her mother’s final work\, “Never Too Late.” Íeda Jónasdóttir Herman (1925-2019) was 94 years old and had finished a year of new experiences to prove one is never too old to enjoy life. That message\, along with her mother’s example\, led Heidi to write her recent motivational book.\nHeidi has lived in South Dakota for three years\, and in addition to writing\, she loves Scandinavian festivals\, cooking\, photography\, travel\, and exploring the outdoors. Heidi considers herself a second-generation life adventurer and is always open to the next challenge.
URL:https://heidihermanauthor.com/events/living-your-best-life-at-any-age/
LOCATION:South Dakota State Fair\, 1060 3rd St SW\, Huron\, 57350\, United States
CATEGORIES:Craft Fair,Readings,Signing,Speaking,Writing
ATTACH;FMTTYPE=image/jpeg:https://heidihermanauthor.com/wp-content/uploads/2023/01/VVHSBookSigning_HeidiHerman.jpg
END:VEVENT
END:VCALENDAR